BEGIN:VCALENDAR
VERSION:2.0
PRODID:-//Squarespace Inc/Squarespace 6//v6//EN
BEGIN:VEVENT
UID:5a3ad0d9f9619abe79d536bc@squarespace.com
DTSTAMP:20171220T210757Z
DTSTART:20181206T210000Z
DTEND:20181207T090000Z
SUMMARY:Nick & Anna (Mt Cook)
END:VEVENT
END:VCALENDAR
