BEGIN:VCALENDAR
VERSION:2.0
PRODID:-//Squarespace Inc/Squarespace 6//v6//EN
BEGIN:VEVENT
UID:5a15461124a694106ddcc079@squarespace.com
DTSTAMP:20171123T031823Z
DTSTART:20181130T210000Z
DTEND:20181201T090000Z
SUMMARY:Nicole & Danny (ChCh)
END:VEVENT
END:VCALENDAR
