BEGIN:VCALENDAR
VERSION:2.0
PRODID:-//Squarespace Inc/Squarespace 6//v6//EN
BEGIN:VEVENT
UID:5a572521085229f556c90b53@squarespace.com
DTSTAMP:20180111T085004Z
DTSTART:20180420T220000Z
DTEND:20180421T100000Z
SUMMARY:Kelly & Jonny (Raincliff)
END:VEVENT
END:VCALENDAR
