BEGIN:VCALENDAR
VERSION:2.0
PRODID:-//Squarespace Inc/Squarespace 6//v6//EN
BEGIN:VEVENT
UID:5a5d5b55652dea16058154ea@squarespace.com
DTSTAMP:20180116T015501Z
DTSTART:20190104T210000Z
DTEND:20190105T090000Z
SUMMARY:Amy & Bob (ChCh)
END:VEVENT
END:VCALENDAR
