BEGIN:VCALENDAR
VERSION:2.0
PRODID:-//Squarespace Inc/Squarespace 6//v6//EN
BEGIN:VEVENT
UID:5a669efb53450a2008968e51@squarespace.com
DTSTAMP:20180123T023442Z
DTSTART:20190214T210000Z
DTEND:20190215T090000Z
SUMMARY:Rhodal & Zach (ChCh)
END:VEVENT
END:VCALENDAR
