BEGIN:VCALENDAR
VERSION:2.0
PRODID:-//Squarespace Inc/Squarespace 6//v6//EN
BEGIN:VEVENT
UID:5a65b10ae4966ba24235f9c5@squarespace.com
DTSTAMP:20180122T094124Z
DTSTART:20190422T220000Z
DTEND:20190423T100000Z
SUMMARY:Nikki & Wayne (Hanmer)
END:VEVENT
END:VCALENDAR
